BEGIN:VCALENDAR
VERSION:2.0
PRODID:-//Clearwater Community Church - ECPv6.15.20//NONSGML v1.0//EN
CALSCALE:GREGORIAN
METHOD:PUBLISH
X-ORIGINAL-URL:https://www.clearwatercommunity.org
X-WR-CALDESC:Events for Clearwater Community Church
REFRESH-INTERVAL;VALUE=DURATION:PT1H
X-Robots-Tag:noindex
X-PUBLISHED-TTL:PT1H
BEGIN:VTIMEZONE
TZID:America/New_York
BEGIN:DAYLIGHT
TZOFFSETFROM:-0500
TZOFFSETTO:-0400
TZNAME:EDT
DTSTART:20250309T070000
END:DAYLIGHT
BEGIN:STANDARD
TZOFFSETFROM:-0400
TZOFFSETTO:-0500
TZNAME:EST
DTSTART:20251102T060000
END:STANDARD
BEGIN:DAYLIGHT
TZOFFSETFROM:-0500
TZOFFSETTO:-0400
TZNAME:EDT
DTSTART:20260308T070000
END:DAYLIGHT
BEGIN:STANDARD
TZOFFSETFROM:-0400
TZOFFSETTO:-0500
TZNAME:EST
DTSTART:20261101T060000
END:STANDARD
BEGIN:DAYLIGHT
TZOFFSETFROM:-0500
TZOFFSETTO:-0400
TZNAME:EDT
DTSTART:20270314T070000
END:DAYLIGHT
BEGIN:STANDARD
TZOFFSETFROM:-0400
TZOFFSETTO:-0500
TZNAME:EST
DTSTART:20271107T060000
END:STANDARD
END:VTIMEZONE
BEGIN:VEVENT
DTSTART;TZID=America/New_York:20260423T070000
DTEND;TZID=America/New_York:20260423T080000
DTSTAMP:20260423T004934
CREATED:20251218T185737Z
LAST-MODIFIED:20260421T193306Z
UID:10000701-1776927600-1776931200@www.clearwatercommunity.org
SUMMARY:Men's Discipleship - Thurs
DESCRIPTION:This study a great place to get to know other men and grow in your faith\, no matter how long you have been a Christian.\n \nTHURSDAYS   //  7:00am    :: Contact: Phil\nMen’s Discipleship which meets on Thursdays in the Living Room and focuses on a book of the Bible. Currently reading through Joshua. \nTHURSDAYS   //  7:00am    :: Contact: Rick\nMen’s Discipleship which meets on Thursdays in Room 306 and focuses on a follow-up to the sermons. \n________________________________________________\nMen also meet on other days of the week: \nCLICK FOR SATURDAY MORNINGS  ::  Contact John\nFRIDAY MORNINGS AT IHOP  ::  Contact Chris
URL:https://www.clearwatercommunity.org/event/mens-discipleship-2-2/2026-04-23/
CATEGORIES:Men's Ministry
ATTACH;FMTTYPE=image/jpeg:https://www.clearwatercommunity.org/wp-content/uploads/2025/12/mens-discip-thur.jpg
ORGANIZER;CN="Phil Burggraff":MAILTO:pastorphil@clearwatercommunity.org
END:VEVENT
END:VCALENDAR