BEGIN:VCALENDAR
VERSION:2.0
PRODID:-//Clearwater Community Church - ECPv6.15.20//NONSGML v1.0//EN
CALSCALE:GREGORIAN
METHOD:PUBLISH
X-WR-CALNAME:Clearwater Community Church
X-ORIGINAL-URL:https://www.clearwatercommunity.org
X-WR-CALDESC:Events for Clearwater Community Church
REFRESH-INTERVAL;VALUE=DURATION:PT1H
X-Robots-Tag:noindex
X-PUBLISHED-TTL:PT1H
BEGIN:VTIMEZONE
TZID:America/New_York
BEGIN:DAYLIGHT
TZOFFSETFROM:-0500
TZOFFSETTO:-0400
TZNAME:EDT
DTSTART:20250309T070000
END:DAYLIGHT
BEGIN:STANDARD
TZOFFSETFROM:-0400
TZOFFSETTO:-0500
TZNAME:EST
DTSTART:20251102T060000
END:STANDARD
BEGIN:DAYLIGHT
TZOFFSETFROM:-0500
TZOFFSETTO:-0400
TZNAME:EDT
DTSTART:20260308T070000
END:DAYLIGHT
BEGIN:STANDARD
TZOFFSETFROM:-0400
TZOFFSETTO:-0500
TZNAME:EST
DTSTART:20261101T060000
END:STANDARD
BEGIN:DAYLIGHT
TZOFFSETFROM:-0500
TZOFFSETTO:-0400
TZNAME:EDT
DTSTART:20270314T070000
END:DAYLIGHT
BEGIN:STANDARD
TZOFFSETFROM:-0400
TZOFFSETTO:-0500
TZNAME:EST
DTSTART:20271107T060000
END:STANDARD
END:VTIMEZONE
BEGIN:VEVENT
DTSTART;TZID=America/New_York:20260428T190000
DTEND;TZID=America/New_York:20260428T210000
DTSTAMP:20260423T020116
CREATED:20251218T185617Z
LAST-MODIFIED:20251218T185625Z
UID:10007217-1777402800-1777410000@www.clearwatercommunity.org
SUMMARY:Community Bible Study
DESCRIPTION:Community Bible Study hosted at CCC as a Men’s study. \nTuesdays at 7:15pm-9:00pm\nThis group includes individual study\, small group discussion\, teaching and fellowship. Men from all backgrounds and levels of Bible knowledge are welcome. The group will be studying the Psalms. \nClick here for the CBS Clearwater Men’s Evening Website for more information on the community group coordinating this study.
URL:https://www.clearwatercommunity.org/event/community-bible-study-2-2-2-2-2/2026-04-28/
CATEGORIES:Men's Ministry
ATTACH;FMTTYPE=image/jpeg:https://www.clearwatercommunity.org/wp-content/uploads/2024/07/CBS-Men-2025.jpg
ORGANIZER;CN="Bob Gruber":MAILTO:gruberb75@gmail.com
END:VEVENT
END:VCALENDAR