BEGIN:VCALENDAR
VERSION:2.0
PRODID:-//Clearwater Community Church - ECPv6.15.20//NONSGML v1.0//EN
CALSCALE:GREGORIAN
METHOD:PUBLISH
X-ORIGINAL-URL:https://www.clearwatercommunity.org
X-WR-CALDESC:Events for Clearwater Community Church
REFRESH-INTERVAL;VALUE=DURATION:PT1H
X-Robots-Tag:noindex
X-PUBLISHED-TTL:PT1H
BEGIN:VTIMEZONE
TZID:America/New_York
BEGIN:DAYLIGHT
TZOFFSETFROM:-0500
TZOFFSETTO:-0400
TZNAME:EDT
DTSTART:20260308T070000
END:DAYLIGHT
BEGIN:STANDARD
TZOFFSETFROM:-0400
TZOFFSETTO:-0500
TZNAME:EST
DTSTART:20261101T060000
END:STANDARD
BEGIN:DAYLIGHT
TZOFFSETFROM:-0500
TZOFFSETTO:-0400
TZNAME:EDT
DTSTART:20270314T070000
END:DAYLIGHT
BEGIN:STANDARD
TZOFFSETFROM:-0400
TZOFFSETTO:-0500
TZNAME:EST
DTSTART:20271107T060000
END:STANDARD
BEGIN:DAYLIGHT
TZOFFSETFROM:-0500
TZOFFSETTO:-0400
TZNAME:EDT
DTSTART:20280312T070000
END:DAYLIGHT
BEGIN:STANDARD
TZOFFSETFROM:-0400
TZOFFSETTO:-0500
TZNAME:EST
DTSTART:20281105T060000
END:STANDARD
END:VTIMEZONE
BEGIN:VEVENT
DTSTART;TZID=America/New_York:20271002T073000
DTEND;TZID=America/New_York:20271002T210000
DTSTAMP:20260425T191744
CREATED:20241108T151138Z
LAST-MODIFIED:20260421T192825Z
UID:10005117-1822462200-1822510800@www.clearwatercommunity.org
SUMMARY:Men's Discipleship - Sat
DESCRIPTION:This study is a great place to get to know other men and grow in your faith\, no matter how long you have been a Christian.\n \nSATURDAYS  //  7:30am  ::  Contact: John\nMen’s Discipleship\, which meets on Saturdays at 7:30am\, is currently studying 1st & 2nd Peter and Jude. \n________________________________________________\nMen also meet on other days of the week: \nTHURSDAY MORNINGS AT CCC :: Contact Phil\nFRIDAY MORNINGS AT IHOP  ::  Contact Chris
URL:https://www.clearwatercommunity.org/event/mens-discipleship-sat/2027-10-02/
LOCATION:Living Room\, 2897 Belcher Rd.\, Dunedin\, FL\, 34698\, United States
CATEGORIES:Men's Ministry
ATTACH;FMTTYPE=image/jpeg:https://www.clearwatercommunity.org/wp-content/uploads/2025/12/mens-discip-sat.jpg
ORGANIZER;CN="John Krueger":MAILTO:dockrueger@aol.com
END:VEVENT
BEGIN:VEVENT
DTSTART;TZID=America/New_York:20271005T190000
DTEND;TZID=America/New_York:20271005T210000
DTSTAMP:20260425T191744
CREATED:20251218T185617Z
LAST-MODIFIED:20251218T185625Z
UID:10007292-1822762800-1822770000@www.clearwatercommunity.org
SUMMARY:Community Bible Study
DESCRIPTION:Community Bible Study hosted at CCC as a Men’s study. \nTuesdays at 7:15pm-9:00pm\nThis group includes individual study\, small group discussion\, teaching and fellowship. Men from all backgrounds and levels of Bible knowledge are welcome. The group will be studying the Psalms. \nClick here for the CBS Clearwater Men’s Evening Website for more information on the community group coordinating this study.
URL:https://www.clearwatercommunity.org/event/community-bible-study-2-2-2-2-2/2027-10-05/
CATEGORIES:Men's Ministry
ATTACH;FMTTYPE=image/jpeg:https://www.clearwatercommunity.org/wp-content/uploads/2024/07/CBS-Men-2025.jpg
ORGANIZER;CN="Bob Gruber":MAILTO:gruberb75@gmail.com
END:VEVENT
BEGIN:VEVENT
DTSTART;TZID=America/New_York:20271007T070000
DTEND;TZID=America/New_York:20271007T080000
DTSTAMP:20260425T191744
CREATED:20251218T185737Z
LAST-MODIFIED:20260421T193306Z
UID:10000777-1822892400-1822896000@www.clearwatercommunity.org
SUMMARY:Men's Discipleship - Thurs
DESCRIPTION:This study a great place to get to know other men and grow in your faith\, no matter how long you have been a Christian.\n \nTHURSDAYS   //  7:00am    :: Contact: Phil\nMen’s Discipleship which meets on Thursdays in the Living Room and focuses on a book of the Bible. Currently reading through Joshua. \nTHURSDAYS   //  7:00am    :: Contact: Rick\nMen’s Discipleship which meets on Thursdays in Room 306 and focuses on a follow-up to the sermons. \n________________________________________________\nMen also meet on other days of the week: \nCLICK FOR SATURDAY MORNINGS  ::  Contact John\nFRIDAY MORNINGS AT IHOP  ::  Contact Chris
URL:https://www.clearwatercommunity.org/event/mens-discipleship-2-2/2027-10-07/
CATEGORIES:Men's Ministry
ATTACH;FMTTYPE=image/jpeg:https://www.clearwatercommunity.org/wp-content/uploads/2025/12/mens-discip-thur.jpg
ORGANIZER;CN="Phil Burggraff":MAILTO:pastorphil@clearwatercommunity.org
END:VEVENT
BEGIN:VEVENT
DTSTART;TZID=America/New_York:20271009T073000
DTEND;TZID=America/New_York:20271009T210000
DTSTAMP:20260425T191744
CREATED:20241108T151138Z
LAST-MODIFIED:20260421T192825Z
UID:10005118-1823067000-1823115600@www.clearwatercommunity.org
SUMMARY:Men's Discipleship - Sat
DESCRIPTION:This study is a great place to get to know other men and grow in your faith\, no matter how long you have been a Christian.\n \nSATURDAYS  //  7:30am  ::  Contact: John\nMen’s Discipleship\, which meets on Saturdays at 7:30am\, is currently studying 1st & 2nd Peter and Jude. \n________________________________________________\nMen also meet on other days of the week: \nTHURSDAY MORNINGS AT CCC :: Contact Phil\nFRIDAY MORNINGS AT IHOP  ::  Contact Chris
URL:https://www.clearwatercommunity.org/event/mens-discipleship-sat/2027-10-09/
LOCATION:Living Room\, 2897 Belcher Rd.\, Dunedin\, FL\, 34698\, United States
CATEGORIES:Men's Ministry
ATTACH;FMTTYPE=image/jpeg:https://www.clearwatercommunity.org/wp-content/uploads/2025/12/mens-discip-sat.jpg
ORGANIZER;CN="John Krueger":MAILTO:dockrueger@aol.com
END:VEVENT
BEGIN:VEVENT
DTSTART;TZID=America/New_York:20271012T190000
DTEND;TZID=America/New_York:20271012T210000
DTSTAMP:20260425T191744
CREATED:20251218T185617Z
LAST-MODIFIED:20251218T185625Z
UID:10007293-1823367600-1823374800@www.clearwatercommunity.org
SUMMARY:Community Bible Study
DESCRIPTION:Community Bible Study hosted at CCC as a Men’s study. \nTuesdays at 7:15pm-9:00pm\nThis group includes individual study\, small group discussion\, teaching and fellowship. Men from all backgrounds and levels of Bible knowledge are welcome. The group will be studying the Psalms. \nClick here for the CBS Clearwater Men’s Evening Website for more information on the community group coordinating this study.
URL:https://www.clearwatercommunity.org/event/community-bible-study-2-2-2-2-2/2027-10-12/
CATEGORIES:Men's Ministry
ATTACH;FMTTYPE=image/jpeg:https://www.clearwatercommunity.org/wp-content/uploads/2024/07/CBS-Men-2025.jpg
ORGANIZER;CN="Bob Gruber":MAILTO:gruberb75@gmail.com
END:VEVENT
BEGIN:VEVENT
DTSTART;TZID=America/New_York:20271014T070000
DTEND;TZID=America/New_York:20271014T080000
DTSTAMP:20260425T191744
CREATED:20251218T185737Z
LAST-MODIFIED:20260421T193306Z
UID:10000778-1823497200-1823500800@www.clearwatercommunity.org
SUMMARY:Men's Discipleship - Thurs
DESCRIPTION:This study a great place to get to know other men and grow in your faith\, no matter how long you have been a Christian.\n \nTHURSDAYS   //  7:00am    :: Contact: Phil\nMen’s Discipleship which meets on Thursdays in the Living Room and focuses on a book of the Bible. Currently reading through Joshua. \nTHURSDAYS   //  7:00am    :: Contact: Rick\nMen’s Discipleship which meets on Thursdays in Room 306 and focuses on a follow-up to the sermons. \n________________________________________________\nMen also meet on other days of the week: \nCLICK FOR SATURDAY MORNINGS  ::  Contact John\nFRIDAY MORNINGS AT IHOP  ::  Contact Chris
URL:https://www.clearwatercommunity.org/event/mens-discipleship-2-2/2027-10-14/
CATEGORIES:Men's Ministry
ATTACH;FMTTYPE=image/jpeg:https://www.clearwatercommunity.org/wp-content/uploads/2025/12/mens-discip-thur.jpg
ORGANIZER;CN="Phil Burggraff":MAILTO:pastorphil@clearwatercommunity.org
END:VEVENT
BEGIN:VEVENT
DTSTART;TZID=America/New_York:20271016T073000
DTEND;TZID=America/New_York:20271016T210000
DTSTAMP:20260425T191744
CREATED:20241108T151138Z
LAST-MODIFIED:20260421T192825Z
UID:10005119-1823671800-1823720400@www.clearwatercommunity.org
SUMMARY:Men's Discipleship - Sat
DESCRIPTION:This study is a great place to get to know other men and grow in your faith\, no matter how long you have been a Christian.\n \nSATURDAYS  //  7:30am  ::  Contact: John\nMen’s Discipleship\, which meets on Saturdays at 7:30am\, is currently studying 1st & 2nd Peter and Jude. \n________________________________________________\nMen also meet on other days of the week: \nTHURSDAY MORNINGS AT CCC :: Contact Phil\nFRIDAY MORNINGS AT IHOP  ::  Contact Chris
URL:https://www.clearwatercommunity.org/event/mens-discipleship-sat/2027-10-16/
LOCATION:Living Room\, 2897 Belcher Rd.\, Dunedin\, FL\, 34698\, United States
CATEGORIES:Men's Ministry
ATTACH;FMTTYPE=image/jpeg:https://www.clearwatercommunity.org/wp-content/uploads/2025/12/mens-discip-sat.jpg
ORGANIZER;CN="John Krueger":MAILTO:dockrueger@aol.com
END:VEVENT
BEGIN:VEVENT
DTSTART;TZID=America/New_York:20271019T190000
DTEND;TZID=America/New_York:20271019T210000
DTSTAMP:20260425T191744
CREATED:20251218T185617Z
LAST-MODIFIED:20251218T185625Z
UID:10007294-1823972400-1823979600@www.clearwatercommunity.org
SUMMARY:Community Bible Study
DESCRIPTION:Community Bible Study hosted at CCC as a Men’s study. \nTuesdays at 7:15pm-9:00pm\nThis group includes individual study\, small group discussion\, teaching and fellowship. Men from all backgrounds and levels of Bible knowledge are welcome. The group will be studying the Psalms. \nClick here for the CBS Clearwater Men’s Evening Website for more information on the community group coordinating this study.
URL:https://www.clearwatercommunity.org/event/community-bible-study-2-2-2-2-2/2027-10-19/
CATEGORIES:Men's Ministry
ATTACH;FMTTYPE=image/jpeg:https://www.clearwatercommunity.org/wp-content/uploads/2024/07/CBS-Men-2025.jpg
ORGANIZER;CN="Bob Gruber":MAILTO:gruberb75@gmail.com
END:VEVENT
BEGIN:VEVENT
DTSTART;TZID=America/New_York:20271021T070000
DTEND;TZID=America/New_York:20271021T080000
DTSTAMP:20260425T191745
CREATED:20251218T185737Z
LAST-MODIFIED:20260421T193306Z
UID:10000779-1824102000-1824105600@www.clearwatercommunity.org
SUMMARY:Men's Discipleship - Thurs
DESCRIPTION:This study a great place to get to know other men and grow in your faith\, no matter how long you have been a Christian.\n \nTHURSDAYS   //  7:00am    :: Contact: Phil\nMen’s Discipleship which meets on Thursdays in the Living Room and focuses on a book of the Bible. Currently reading through Joshua. \nTHURSDAYS   //  7:00am    :: Contact: Rick\nMen’s Discipleship which meets on Thursdays in Room 306 and focuses on a follow-up to the sermons. \n________________________________________________\nMen also meet on other days of the week: \nCLICK FOR SATURDAY MORNINGS  ::  Contact John\nFRIDAY MORNINGS AT IHOP  ::  Contact Chris
URL:https://www.clearwatercommunity.org/event/mens-discipleship-2-2/2027-10-21/
CATEGORIES:Men's Ministry
ATTACH;FMTTYPE=image/jpeg:https://www.clearwatercommunity.org/wp-content/uploads/2025/12/mens-discip-thur.jpg
ORGANIZER;CN="Phil Burggraff":MAILTO:pastorphil@clearwatercommunity.org
END:VEVENT
BEGIN:VEVENT
DTSTART;TZID=America/New_York:20271023T073000
DTEND;TZID=America/New_York:20271023T210000
DTSTAMP:20260425T191745
CREATED:20241108T151138Z
LAST-MODIFIED:20260421T192825Z
UID:10005120-1824276600-1824325200@www.clearwatercommunity.org
SUMMARY:Men's Discipleship - Sat
DESCRIPTION:This study is a great place to get to know other men and grow in your faith\, no matter how long you have been a Christian.\n \nSATURDAYS  //  7:30am  ::  Contact: John\nMen’s Discipleship\, which meets on Saturdays at 7:30am\, is currently studying 1st & 2nd Peter and Jude. \n________________________________________________\nMen also meet on other days of the week: \nTHURSDAY MORNINGS AT CCC :: Contact Phil\nFRIDAY MORNINGS AT IHOP  ::  Contact Chris
URL:https://www.clearwatercommunity.org/event/mens-discipleship-sat/2027-10-23/
LOCATION:Living Room\, 2897 Belcher Rd.\, Dunedin\, FL\, 34698\, United States
CATEGORIES:Men's Ministry
ATTACH;FMTTYPE=image/jpeg:https://www.clearwatercommunity.org/wp-content/uploads/2025/12/mens-discip-sat.jpg
ORGANIZER;CN="John Krueger":MAILTO:dockrueger@aol.com
END:VEVENT
BEGIN:VEVENT
DTSTART;TZID=America/New_York:20271026T190000
DTEND;TZID=America/New_York:20271026T210000
DTSTAMP:20260425T191745
CREATED:20251218T185617Z
LAST-MODIFIED:20251218T185625Z
UID:10007295-1824577200-1824584400@www.clearwatercommunity.org
SUMMARY:Community Bible Study
DESCRIPTION:Community Bible Study hosted at CCC as a Men’s study. \nTuesdays at 7:15pm-9:00pm\nThis group includes individual study\, small group discussion\, teaching and fellowship. Men from all backgrounds and levels of Bible knowledge are welcome. The group will be studying the Psalms. \nClick here for the CBS Clearwater Men’s Evening Website for more information on the community group coordinating this study.
URL:https://www.clearwatercommunity.org/event/community-bible-study-2-2-2-2-2/2027-10-26/
CATEGORIES:Men's Ministry
ATTACH;FMTTYPE=image/jpeg:https://www.clearwatercommunity.org/wp-content/uploads/2024/07/CBS-Men-2025.jpg
ORGANIZER;CN="Bob Gruber":MAILTO:gruberb75@gmail.com
END:VEVENT
BEGIN:VEVENT
DTSTART;TZID=America/New_York:20271028T070000
DTEND;TZID=America/New_York:20271028T080000
DTSTAMP:20260425T191745
CREATED:20251218T185737Z
LAST-MODIFIED:20260421T193306Z
UID:10000780-1824706800-1824710400@www.clearwatercommunity.org
SUMMARY:Men's Discipleship - Thurs
DESCRIPTION:This study a great place to get to know other men and grow in your faith\, no matter how long you have been a Christian.\n \nTHURSDAYS   //  7:00am    :: Contact: Phil\nMen’s Discipleship which meets on Thursdays in the Living Room and focuses on a book of the Bible. Currently reading through Joshua. \nTHURSDAYS   //  7:00am    :: Contact: Rick\nMen’s Discipleship which meets on Thursdays in Room 306 and focuses on a follow-up to the sermons. \n________________________________________________\nMen also meet on other days of the week: \nCLICK FOR SATURDAY MORNINGS  ::  Contact John\nFRIDAY MORNINGS AT IHOP  ::  Contact Chris
URL:https://www.clearwatercommunity.org/event/mens-discipleship-2-2/2027-10-28/
CATEGORIES:Men's Ministry
ATTACH;FMTTYPE=image/jpeg:https://www.clearwatercommunity.org/wp-content/uploads/2025/12/mens-discip-thur.jpg
ORGANIZER;CN="Phil Burggraff":MAILTO:pastorphil@clearwatercommunity.org
END:VEVENT
BEGIN:VEVENT
DTSTART;TZID=America/New_York:20271030T073000
DTEND;TZID=America/New_York:20271030T210000
DTSTAMP:20260425T191745
CREATED:20241108T151138Z
LAST-MODIFIED:20260421T192825Z
UID:10005121-1824881400-1824930000@www.clearwatercommunity.org
SUMMARY:Men's Discipleship - Sat
DESCRIPTION:This study is a great place to get to know other men and grow in your faith\, no matter how long you have been a Christian.\n \nSATURDAYS  //  7:30am  ::  Contact: John\nMen’s Discipleship\, which meets on Saturdays at 7:30am\, is currently studying 1st & 2nd Peter and Jude. \n________________________________________________\nMen also meet on other days of the week: \nTHURSDAY MORNINGS AT CCC :: Contact Phil\nFRIDAY MORNINGS AT IHOP  ::  Contact Chris
URL:https://www.clearwatercommunity.org/event/mens-discipleship-sat/2027-10-30/
LOCATION:Living Room\, 2897 Belcher Rd.\, Dunedin\, FL\, 34698\, United States
CATEGORIES:Men's Ministry
ATTACH;FMTTYPE=image/jpeg:https://www.clearwatercommunity.org/wp-content/uploads/2025/12/mens-discip-sat.jpg
ORGANIZER;CN="John Krueger":MAILTO:dockrueger@aol.com
END:VEVENT
END:VCALENDAR