BEGIN:VCALENDAR
VERSION:2.0
PRODID:-//Clearwater Community Church - ECPv6.15.20//NONSGML v1.0//EN
CALSCALE:GREGORIAN
METHOD:PUBLISH
X-ORIGINAL-URL:https://www.clearwatercommunity.org
X-WR-CALDESC:Events for Clearwater Community Church
REFRESH-INTERVAL;VALUE=DURATION:PT1H
X-Robots-Tag:noindex
X-PUBLISHED-TTL:PT1H
BEGIN:VTIMEZONE
TZID:America/New_York
BEGIN:DAYLIGHT
TZOFFSETFROM:-0500
TZOFFSETTO:-0400
TZNAME:EDT
DTSTART:20250309T070000
END:DAYLIGHT
BEGIN:STANDARD
TZOFFSETFROM:-0400
TZOFFSETTO:-0500
TZNAME:EST
DTSTART:20251102T060000
END:STANDARD
BEGIN:DAYLIGHT
TZOFFSETFROM:-0500
TZOFFSETTO:-0400
TZNAME:EDT
DTSTART:20260308T070000
END:DAYLIGHT
BEGIN:STANDARD
TZOFFSETFROM:-0400
TZOFFSETTO:-0500
TZNAME:EST
DTSTART:20261101T060000
END:STANDARD
BEGIN:DAYLIGHT
TZOFFSETFROM:-0500
TZOFFSETTO:-0400
TZNAME:EDT
DTSTART:20270314T070000
END:DAYLIGHT
BEGIN:STANDARD
TZOFFSETFROM:-0400
TZOFFSETTO:-0500
TZNAME:EST
DTSTART:20271107T060000
END:STANDARD
END:VTIMEZONE
BEGIN:VEVENT
DTSTART;TZID=America/New_York:20261001T070000
DTEND;TZID=America/New_York:20261001T080000
DTSTAMP:20260423T093422
CREATED:20251218T185737Z
LAST-MODIFIED:20260421T193306Z
UID:10000724-1790838000-1790841600@www.clearwatercommunity.org
SUMMARY:Men's Discipleship - Thurs
DESCRIPTION:This study a great place to get to know other men and grow in your faith\, no matter how long you have been a Christian.\n \nTHURSDAYS   //  7:00am    :: Contact: Phil\nMen’s Discipleship which meets on Thursdays in the Living Room and focuses on a book of the Bible. Currently reading through Joshua. \nTHURSDAYS   //  7:00am    :: Contact: Rick\nMen’s Discipleship which meets on Thursdays in Room 306 and focuses on a follow-up to the sermons. \n________________________________________________\nMen also meet on other days of the week: \nCLICK FOR SATURDAY MORNINGS  ::  Contact John\nFRIDAY MORNINGS AT IHOP  ::  Contact Chris
URL:https://www.clearwatercommunity.org/event/mens-discipleship-2-2/2026-10-01/
CATEGORIES:Men's Ministry
ATTACH;FMTTYPE=image/jpeg:https://www.clearwatercommunity.org/wp-content/uploads/2025/12/mens-discip-thur.jpg
ORGANIZER;CN="Phil Burggraff":MAILTO:pastorphil@clearwatercommunity.org
END:VEVENT
BEGIN:VEVENT
DTSTART;TZID=America/New_York:20261003T073000
DTEND;TZID=America/New_York:20261003T210000
DTSTAMP:20260423T093422
CREATED:20241108T151138Z
LAST-MODIFIED:20260421T192825Z
UID:10005065-1791012600-1791061200@www.clearwatercommunity.org
SUMMARY:Men's Discipleship - Sat
DESCRIPTION:This study is a great place to get to know other men and grow in your faith\, no matter how long you have been a Christian.\n \nSATURDAYS  //  7:30am  ::  Contact: John\nMen’s Discipleship\, which meets on Saturdays at 7:30am\, is currently studying 1st & 2nd Peter and Jude. \n________________________________________________\nMen also meet on other days of the week: \nTHURSDAY MORNINGS AT CCC :: Contact Phil\nFRIDAY MORNINGS AT IHOP  ::  Contact Chris
URL:https://www.clearwatercommunity.org/event/mens-discipleship-sat/2026-10-03/
LOCATION:Living Room\, 2897 Belcher Rd.\, Dunedin\, FL\, 34698\, United States
CATEGORIES:Men's Ministry
ATTACH;FMTTYPE=image/jpeg:https://www.clearwatercommunity.org/wp-content/uploads/2025/12/mens-discip-sat.jpg
ORGANIZER;CN="John Krueger":MAILTO:dockrueger@aol.com
END:VEVENT
BEGIN:VEVENT
DTSTART;TZID=America/New_York:20261006T190000
DTEND;TZID=America/New_York:20261006T210000
DTSTAMP:20260423T093422
CREATED:20251218T185617Z
LAST-MODIFIED:20251218T185625Z
UID:10007240-1791313200-1791320400@www.clearwatercommunity.org
SUMMARY:Community Bible Study
DESCRIPTION:Community Bible Study hosted at CCC as a Men’s study. \nTuesdays at 7:15pm-9:00pm\nThis group includes individual study\, small group discussion\, teaching and fellowship. Men from all backgrounds and levels of Bible knowledge are welcome. The group will be studying the Psalms. \nClick here for the CBS Clearwater Men’s Evening Website for more information on the community group coordinating this study.
URL:https://www.clearwatercommunity.org/event/community-bible-study-2-2-2-2-2/2026-10-06/
CATEGORIES:Men's Ministry
ATTACH;FMTTYPE=image/jpeg:https://www.clearwatercommunity.org/wp-content/uploads/2024/07/CBS-Men-2025.jpg
ORGANIZER;CN="Bob Gruber":MAILTO:gruberb75@gmail.com
END:VEVENT
BEGIN:VEVENT
DTSTART;TZID=America/New_York:20261008T070000
DTEND;TZID=America/New_York:20261008T080000
DTSTAMP:20260423T093422
CREATED:20251218T185737Z
LAST-MODIFIED:20260421T193306Z
UID:10000725-1791442800-1791446400@www.clearwatercommunity.org
SUMMARY:Men's Discipleship - Thurs
DESCRIPTION:This study a great place to get to know other men and grow in your faith\, no matter how long you have been a Christian.\n \nTHURSDAYS   //  7:00am    :: Contact: Phil\nMen’s Discipleship which meets on Thursdays in the Living Room and focuses on a book of the Bible. Currently reading through Joshua. \nTHURSDAYS   //  7:00am    :: Contact: Rick\nMen’s Discipleship which meets on Thursdays in Room 306 and focuses on a follow-up to the sermons. \n________________________________________________\nMen also meet on other days of the week: \nCLICK FOR SATURDAY MORNINGS  ::  Contact John\nFRIDAY MORNINGS AT IHOP  ::  Contact Chris
URL:https://www.clearwatercommunity.org/event/mens-discipleship-2-2/2026-10-08/
CATEGORIES:Men's Ministry
ATTACH;FMTTYPE=image/jpeg:https://www.clearwatercommunity.org/wp-content/uploads/2025/12/mens-discip-thur.jpg
ORGANIZER;CN="Phil Burggraff":MAILTO:pastorphil@clearwatercommunity.org
END:VEVENT
BEGIN:VEVENT
DTSTART;TZID=America/New_York:20261010T073000
DTEND;TZID=America/New_York:20261010T210000
DTSTAMP:20260423T093422
CREATED:20241108T151138Z
LAST-MODIFIED:20260421T192825Z
UID:10005066-1791617400-1791666000@www.clearwatercommunity.org
SUMMARY:Men's Discipleship - Sat
DESCRIPTION:This study is a great place to get to know other men and grow in your faith\, no matter how long you have been a Christian.\n \nSATURDAYS  //  7:30am  ::  Contact: John\nMen’s Discipleship\, which meets on Saturdays at 7:30am\, is currently studying 1st & 2nd Peter and Jude. \n________________________________________________\nMen also meet on other days of the week: \nTHURSDAY MORNINGS AT CCC :: Contact Phil\nFRIDAY MORNINGS AT IHOP  ::  Contact Chris
URL:https://www.clearwatercommunity.org/event/mens-discipleship-sat/2026-10-10/
LOCATION:Living Room\, 2897 Belcher Rd.\, Dunedin\, FL\, 34698\, United States
CATEGORIES:Men's Ministry
ATTACH;FMTTYPE=image/jpeg:https://www.clearwatercommunity.org/wp-content/uploads/2025/12/mens-discip-sat.jpg
ORGANIZER;CN="John Krueger":MAILTO:dockrueger@aol.com
END:VEVENT
BEGIN:VEVENT
DTSTART;TZID=America/New_York:20261013T190000
DTEND;TZID=America/New_York:20261013T210000
DTSTAMP:20260423T093422
CREATED:20251218T185617Z
LAST-MODIFIED:20251218T185625Z
UID:10007241-1791918000-1791925200@www.clearwatercommunity.org
SUMMARY:Community Bible Study
DESCRIPTION:Community Bible Study hosted at CCC as a Men’s study. \nTuesdays at 7:15pm-9:00pm\nThis group includes individual study\, small group discussion\, teaching and fellowship. Men from all backgrounds and levels of Bible knowledge are welcome. The group will be studying the Psalms. \nClick here for the CBS Clearwater Men’s Evening Website for more information on the community group coordinating this study.
URL:https://www.clearwatercommunity.org/event/community-bible-study-2-2-2-2-2/2026-10-13/
CATEGORIES:Men's Ministry
ATTACH;FMTTYPE=image/jpeg:https://www.clearwatercommunity.org/wp-content/uploads/2024/07/CBS-Men-2025.jpg
ORGANIZER;CN="Bob Gruber":MAILTO:gruberb75@gmail.com
END:VEVENT
BEGIN:VEVENT
DTSTART;TZID=America/New_York:20261015T070000
DTEND;TZID=America/New_York:20261015T080000
DTSTAMP:20260423T093422
CREATED:20251218T185737Z
LAST-MODIFIED:20260421T193306Z
UID:10000726-1792047600-1792051200@www.clearwatercommunity.org
SUMMARY:Men's Discipleship - Thurs
DESCRIPTION:This study a great place to get to know other men and grow in your faith\, no matter how long you have been a Christian.\n \nTHURSDAYS   //  7:00am    :: Contact: Phil\nMen’s Discipleship which meets on Thursdays in the Living Room and focuses on a book of the Bible. Currently reading through Joshua. \nTHURSDAYS   //  7:00am    :: Contact: Rick\nMen’s Discipleship which meets on Thursdays in Room 306 and focuses on a follow-up to the sermons. \n________________________________________________\nMen also meet on other days of the week: \nCLICK FOR SATURDAY MORNINGS  ::  Contact John\nFRIDAY MORNINGS AT IHOP  ::  Contact Chris
URL:https://www.clearwatercommunity.org/event/mens-discipleship-2-2/2026-10-15/
CATEGORIES:Men's Ministry
ATTACH;FMTTYPE=image/jpeg:https://www.clearwatercommunity.org/wp-content/uploads/2025/12/mens-discip-thur.jpg
ORGANIZER;CN="Phil Burggraff":MAILTO:pastorphil@clearwatercommunity.org
END:VEVENT
BEGIN:VEVENT
DTSTART;TZID=America/New_York:20261017T073000
DTEND;TZID=America/New_York:20261017T210000
DTSTAMP:20260423T093422
CREATED:20241108T151138Z
LAST-MODIFIED:20260421T192825Z
UID:10005067-1792222200-1792270800@www.clearwatercommunity.org
SUMMARY:Men's Discipleship - Sat
DESCRIPTION:This study is a great place to get to know other men and grow in your faith\, no matter how long you have been a Christian.\n \nSATURDAYS  //  7:30am  ::  Contact: John\nMen’s Discipleship\, which meets on Saturdays at 7:30am\, is currently studying 1st & 2nd Peter and Jude. \n________________________________________________\nMen also meet on other days of the week: \nTHURSDAY MORNINGS AT CCC :: Contact Phil\nFRIDAY MORNINGS AT IHOP  ::  Contact Chris
URL:https://www.clearwatercommunity.org/event/mens-discipleship-sat/2026-10-17/
LOCATION:Living Room\, 2897 Belcher Rd.\, Dunedin\, FL\, 34698\, United States
CATEGORIES:Men's Ministry
ATTACH;FMTTYPE=image/jpeg:https://www.clearwatercommunity.org/wp-content/uploads/2025/12/mens-discip-sat.jpg
ORGANIZER;CN="John Krueger":MAILTO:dockrueger@aol.com
END:VEVENT
BEGIN:VEVENT
DTSTART;TZID=America/New_York:20261020T190000
DTEND;TZID=America/New_York:20261020T210000
DTSTAMP:20260423T093422
CREATED:20251218T185617Z
LAST-MODIFIED:20251218T185625Z
UID:10007242-1792522800-1792530000@www.clearwatercommunity.org
SUMMARY:Community Bible Study
DESCRIPTION:Community Bible Study hosted at CCC as a Men’s study. \nTuesdays at 7:15pm-9:00pm\nThis group includes individual study\, small group discussion\, teaching and fellowship. Men from all backgrounds and levels of Bible knowledge are welcome. The group will be studying the Psalms. \nClick here for the CBS Clearwater Men’s Evening Website for more information on the community group coordinating this study.
URL:https://www.clearwatercommunity.org/event/community-bible-study-2-2-2-2-2/2026-10-20/
CATEGORIES:Men's Ministry
ATTACH;FMTTYPE=image/jpeg:https://www.clearwatercommunity.org/wp-content/uploads/2024/07/CBS-Men-2025.jpg
ORGANIZER;CN="Bob Gruber":MAILTO:gruberb75@gmail.com
END:VEVENT
BEGIN:VEVENT
DTSTART;TZID=America/New_York:20261022T070000
DTEND;TZID=America/New_York:20261022T080000
DTSTAMP:20260423T093422
CREATED:20251218T185737Z
LAST-MODIFIED:20260421T193306Z
UID:10000727-1792652400-1792656000@www.clearwatercommunity.org
SUMMARY:Men's Discipleship - Thurs
DESCRIPTION:This study a great place to get to know other men and grow in your faith\, no matter how long you have been a Christian.\n \nTHURSDAYS   //  7:00am    :: Contact: Phil\nMen’s Discipleship which meets on Thursdays in the Living Room and focuses on a book of the Bible. Currently reading through Joshua. \nTHURSDAYS   //  7:00am    :: Contact: Rick\nMen’s Discipleship which meets on Thursdays in Room 306 and focuses on a follow-up to the sermons. \n________________________________________________\nMen also meet on other days of the week: \nCLICK FOR SATURDAY MORNINGS  ::  Contact John\nFRIDAY MORNINGS AT IHOP  ::  Contact Chris
URL:https://www.clearwatercommunity.org/event/mens-discipleship-2-2/2026-10-22/
CATEGORIES:Men's Ministry
ATTACH;FMTTYPE=image/jpeg:https://www.clearwatercommunity.org/wp-content/uploads/2025/12/mens-discip-thur.jpg
ORGANIZER;CN="Phil Burggraff":MAILTO:pastorphil@clearwatercommunity.org
END:VEVENT
BEGIN:VEVENT
DTSTART;TZID=America/New_York:20261024T073000
DTEND;TZID=America/New_York:20261024T210000
DTSTAMP:20260423T093422
CREATED:20241108T151138Z
LAST-MODIFIED:20260421T192825Z
UID:10005068-1792827000-1792875600@www.clearwatercommunity.org
SUMMARY:Men's Discipleship - Sat
DESCRIPTION:This study is a great place to get to know other men and grow in your faith\, no matter how long you have been a Christian.\n \nSATURDAYS  //  7:30am  ::  Contact: John\nMen’s Discipleship\, which meets on Saturdays at 7:30am\, is currently studying 1st & 2nd Peter and Jude. \n________________________________________________\nMen also meet on other days of the week: \nTHURSDAY MORNINGS AT CCC :: Contact Phil\nFRIDAY MORNINGS AT IHOP  ::  Contact Chris
URL:https://www.clearwatercommunity.org/event/mens-discipleship-sat/2026-10-24/
LOCATION:Living Room\, 2897 Belcher Rd.\, Dunedin\, FL\, 34698\, United States
CATEGORIES:Men's Ministry
ATTACH;FMTTYPE=image/jpeg:https://www.clearwatercommunity.org/wp-content/uploads/2025/12/mens-discip-sat.jpg
ORGANIZER;CN="John Krueger":MAILTO:dockrueger@aol.com
END:VEVENT
BEGIN:VEVENT
DTSTART;TZID=America/New_York:20261027T190000
DTEND;TZID=America/New_York:20261027T210000
DTSTAMP:20260423T093422
CREATED:20251218T185617Z
LAST-MODIFIED:20251218T185625Z
UID:10007243-1793127600-1793134800@www.clearwatercommunity.org
SUMMARY:Community Bible Study
DESCRIPTION:Community Bible Study hosted at CCC as a Men’s study. \nTuesdays at 7:15pm-9:00pm\nThis group includes individual study\, small group discussion\, teaching and fellowship. Men from all backgrounds and levels of Bible knowledge are welcome. The group will be studying the Psalms. \nClick here for the CBS Clearwater Men’s Evening Website for more information on the community group coordinating this study.
URL:https://www.clearwatercommunity.org/event/community-bible-study-2-2-2-2-2/2026-10-27/
CATEGORIES:Men's Ministry
ATTACH;FMTTYPE=image/jpeg:https://www.clearwatercommunity.org/wp-content/uploads/2024/07/CBS-Men-2025.jpg
ORGANIZER;CN="Bob Gruber":MAILTO:gruberb75@gmail.com
END:VEVENT
BEGIN:VEVENT
DTSTART;TZID=America/New_York:20261029T070000
DTEND;TZID=America/New_York:20261029T080000
DTSTAMP:20260423T093422
CREATED:20251218T185737Z
LAST-MODIFIED:20260421T193306Z
UID:10000728-1793257200-1793260800@www.clearwatercommunity.org
SUMMARY:Men's Discipleship - Thurs
DESCRIPTION:This study a great place to get to know other men and grow in your faith\, no matter how long you have been a Christian.\n \nTHURSDAYS   //  7:00am    :: Contact: Phil\nMen’s Discipleship which meets on Thursdays in the Living Room and focuses on a book of the Bible. Currently reading through Joshua. \nTHURSDAYS   //  7:00am    :: Contact: Rick\nMen’s Discipleship which meets on Thursdays in Room 306 and focuses on a follow-up to the sermons. \n________________________________________________\nMen also meet on other days of the week: \nCLICK FOR SATURDAY MORNINGS  ::  Contact John\nFRIDAY MORNINGS AT IHOP  ::  Contact Chris
URL:https://www.clearwatercommunity.org/event/mens-discipleship-2-2/2026-10-29/
CATEGORIES:Men's Ministry
ATTACH;FMTTYPE=image/jpeg:https://www.clearwatercommunity.org/wp-content/uploads/2025/12/mens-discip-thur.jpg
ORGANIZER;CN="Phil Burggraff":MAILTO:pastorphil@clearwatercommunity.org
END:VEVENT
BEGIN:VEVENT
DTSTART;TZID=America/New_York:20261031T073000
DTEND;TZID=America/New_York:20261031T210000
DTSTAMP:20260423T093422
CREATED:20241108T151138Z
LAST-MODIFIED:20260421T192825Z
UID:10005069-1793431800-1793480400@www.clearwatercommunity.org
SUMMARY:Men's Discipleship - Sat
DESCRIPTION:This study is a great place to get to know other men and grow in your faith\, no matter how long you have been a Christian.\n \nSATURDAYS  //  7:30am  ::  Contact: John\nMen’s Discipleship\, which meets on Saturdays at 7:30am\, is currently studying 1st & 2nd Peter and Jude. \n________________________________________________\nMen also meet on other days of the week: \nTHURSDAY MORNINGS AT CCC :: Contact Phil\nFRIDAY MORNINGS AT IHOP  ::  Contact Chris
URL:https://www.clearwatercommunity.org/event/mens-discipleship-sat/2026-10-31/
LOCATION:Living Room\, 2897 Belcher Rd.\, Dunedin\, FL\, 34698\, United States
CATEGORIES:Men's Ministry
ATTACH;FMTTYPE=image/jpeg:https://www.clearwatercommunity.org/wp-content/uploads/2025/12/mens-discip-sat.jpg
ORGANIZER;CN="John Krueger":MAILTO:dockrueger@aol.com
END:VEVENT
END:VCALENDAR