BEGIN:VCALENDAR
VERSION:2.0
PRODID:-//Clearwater Community Church - ECPv6.15.20//NONSGML v1.0//EN
CALSCALE:GREGORIAN
METHOD:PUBLISH
X-ORIGINAL-URL:https://www.clearwatercommunity.org
X-WR-CALDESC:Events for Clearwater Community Church
REFRESH-INTERVAL;VALUE=DURATION:PT1H
X-Robots-Tag:noindex
X-PUBLISHED-TTL:PT1H
BEGIN:VTIMEZONE
TZID:America/New_York
BEGIN:DAYLIGHT
TZOFFSETFROM:-0500
TZOFFSETTO:-0400
TZNAME:EDT
DTSTART:20250309T070000
END:DAYLIGHT
BEGIN:STANDARD
TZOFFSETFROM:-0400
TZOFFSETTO:-0500
TZNAME:EST
DTSTART:20251102T060000
END:STANDARD
BEGIN:DAYLIGHT
TZOFFSETFROM:-0500
TZOFFSETTO:-0400
TZNAME:EDT
DTSTART:20260308T070000
END:DAYLIGHT
BEGIN:STANDARD
TZOFFSETFROM:-0400
TZOFFSETTO:-0500
TZNAME:EST
DTSTART:20261101T060000
END:STANDARD
BEGIN:DAYLIGHT
TZOFFSETFROM:-0500
TZOFFSETTO:-0400
TZNAME:EDT
DTSTART:20270314T070000
END:DAYLIGHT
BEGIN:STANDARD
TZOFFSETFROM:-0400
TZOFFSETTO:-0500
TZNAME:EST
DTSTART:20271107T060000
END:STANDARD
END:VTIMEZONE
BEGIN:VEVENT
DTSTART;TZID=America/New_York:20260602T190000
DTEND;TZID=America/New_York:20260602T210000
DTSTAMP:20260423T042619
CREATED:20251218T185617Z
LAST-MODIFIED:20251218T185625Z
UID:10007222-1780426800-1780434000@www.clearwatercommunity.org
SUMMARY:Community Bible Study
DESCRIPTION:Community Bible Study hosted at CCC as a Men’s study. \nTuesdays at 7:15pm-9:00pm\nThis group includes individual study\, small group discussion\, teaching and fellowship. Men from all backgrounds and levels of Bible knowledge are welcome. The group will be studying the Psalms. \nClick here for the CBS Clearwater Men’s Evening Website for more information on the community group coordinating this study.
URL:https://www.clearwatercommunity.org/event/community-bible-study-2-2-2-2-2/2026-06-02/
CATEGORIES:Men's Ministry
ATTACH;FMTTYPE=image/jpeg:https://www.clearwatercommunity.org/wp-content/uploads/2024/07/CBS-Men-2025.jpg
ORGANIZER;CN="Bob Gruber":MAILTO:gruberb75@gmail.com
END:VEVENT
BEGIN:VEVENT
DTSTART;TZID=America/New_York:20260604T070000
DTEND;TZID=America/New_York:20260604T080000
DTSTAMP:20260423T042619
CREATED:20251218T185737Z
LAST-MODIFIED:20260421T193306Z
UID:10000707-1780556400-1780560000@www.clearwatercommunity.org
SUMMARY:Men's Discipleship - Thurs
DESCRIPTION:This study a great place to get to know other men and grow in your faith\, no matter how long you have been a Christian.\n \nTHURSDAYS   //  7:00am    :: Contact: Phil\nMen’s Discipleship which meets on Thursdays in the Living Room and focuses on a book of the Bible. Currently reading through Joshua. \nTHURSDAYS   //  7:00am    :: Contact: Rick\nMen’s Discipleship which meets on Thursdays in Room 306 and focuses on a follow-up to the sermons. \n________________________________________________\nMen also meet on other days of the week: \nCLICK FOR SATURDAY MORNINGS  ::  Contact John\nFRIDAY MORNINGS AT IHOP  ::  Contact Chris
URL:https://www.clearwatercommunity.org/event/mens-discipleship-2-2/2026-06-04/
CATEGORIES:Men's Ministry
ATTACH;FMTTYPE=image/jpeg:https://www.clearwatercommunity.org/wp-content/uploads/2025/12/mens-discip-thur.jpg
ORGANIZER;CN="Phil Burggraff":MAILTO:pastorphil@clearwatercommunity.org
END:VEVENT
BEGIN:VEVENT
DTSTART;TZID=America/New_York:20260606T073000
DTEND;TZID=America/New_York:20260606T210000
DTSTAMP:20260423T042619
CREATED:20241108T151138Z
LAST-MODIFIED:20260421T192825Z
UID:10005048-1780731000-1780779600@www.clearwatercommunity.org
SUMMARY:Men's Discipleship - Sat
DESCRIPTION:This study is a great place to get to know other men and grow in your faith\, no matter how long you have been a Christian.\n \nSATURDAYS  //  7:30am  ::  Contact: John\nMen’s Discipleship\, which meets on Saturdays at 7:30am\, is currently studying 1st & 2nd Peter and Jude. \n________________________________________________\nMen also meet on other days of the week: \nTHURSDAY MORNINGS AT CCC :: Contact Phil\nFRIDAY MORNINGS AT IHOP  ::  Contact Chris
URL:https://www.clearwatercommunity.org/event/mens-discipleship-sat/2026-06-06/
LOCATION:Living Room\, 2897 Belcher Rd.\, Dunedin\, FL\, 34698\, United States
CATEGORIES:Men's Ministry
ATTACH;FMTTYPE=image/jpeg:https://www.clearwatercommunity.org/wp-content/uploads/2025/12/mens-discip-sat.jpg
ORGANIZER;CN="John Krueger":MAILTO:dockrueger@aol.com
END:VEVENT
BEGIN:VEVENT
DTSTART;TZID=America/New_York:20260609T190000
DTEND;TZID=America/New_York:20260609T210000
DTSTAMP:20260423T042619
CREATED:20251218T185617Z
LAST-MODIFIED:20251218T185625Z
UID:10007223-1781031600-1781038800@www.clearwatercommunity.org
SUMMARY:Community Bible Study
DESCRIPTION:Community Bible Study hosted at CCC as a Men’s study. \nTuesdays at 7:15pm-9:00pm\nThis group includes individual study\, small group discussion\, teaching and fellowship. Men from all backgrounds and levels of Bible knowledge are welcome. The group will be studying the Psalms. \nClick here for the CBS Clearwater Men’s Evening Website for more information on the community group coordinating this study.
URL:https://www.clearwatercommunity.org/event/community-bible-study-2-2-2-2-2/2026-06-09/
CATEGORIES:Men's Ministry
ATTACH;FMTTYPE=image/jpeg:https://www.clearwatercommunity.org/wp-content/uploads/2024/07/CBS-Men-2025.jpg
ORGANIZER;CN="Bob Gruber":MAILTO:gruberb75@gmail.com
END:VEVENT
BEGIN:VEVENT
DTSTART;TZID=America/New_York:20260611T070000
DTEND;TZID=America/New_York:20260611T080000
DTSTAMP:20260423T042619
CREATED:20251218T185737Z
LAST-MODIFIED:20260421T193306Z
UID:10000708-1781161200-1781164800@www.clearwatercommunity.org
SUMMARY:Men's Discipleship - Thurs
DESCRIPTION:This study a great place to get to know other men and grow in your faith\, no matter how long you have been a Christian.\n \nTHURSDAYS   //  7:00am    :: Contact: Phil\nMen’s Discipleship which meets on Thursdays in the Living Room and focuses on a book of the Bible. Currently reading through Joshua. \nTHURSDAYS   //  7:00am    :: Contact: Rick\nMen’s Discipleship which meets on Thursdays in Room 306 and focuses on a follow-up to the sermons. \n________________________________________________\nMen also meet on other days of the week: \nCLICK FOR SATURDAY MORNINGS  ::  Contact John\nFRIDAY MORNINGS AT IHOP  ::  Contact Chris
URL:https://www.clearwatercommunity.org/event/mens-discipleship-2-2/2026-06-11/
CATEGORIES:Men's Ministry
ATTACH;FMTTYPE=image/jpeg:https://www.clearwatercommunity.org/wp-content/uploads/2025/12/mens-discip-thur.jpg
ORGANIZER;CN="Phil Burggraff":MAILTO:pastorphil@clearwatercommunity.org
END:VEVENT
BEGIN:VEVENT
DTSTART;TZID=America/New_York:20260613T073000
DTEND;TZID=America/New_York:20260613T210000
DTSTAMP:20260423T042619
CREATED:20241108T151138Z
LAST-MODIFIED:20260421T192825Z
UID:10005049-1781335800-1781384400@www.clearwatercommunity.org
SUMMARY:Men's Discipleship - Sat
DESCRIPTION:This study is a great place to get to know other men and grow in your faith\, no matter how long you have been a Christian.\n \nSATURDAYS  //  7:30am  ::  Contact: John\nMen’s Discipleship\, which meets on Saturdays at 7:30am\, is currently studying 1st & 2nd Peter and Jude. \n________________________________________________\nMen also meet on other days of the week: \nTHURSDAY MORNINGS AT CCC :: Contact Phil\nFRIDAY MORNINGS AT IHOP  ::  Contact Chris
URL:https://www.clearwatercommunity.org/event/mens-discipleship-sat/2026-06-13/
LOCATION:Living Room\, 2897 Belcher Rd.\, Dunedin\, FL\, 34698\, United States
CATEGORIES:Men's Ministry
ATTACH;FMTTYPE=image/jpeg:https://www.clearwatercommunity.org/wp-content/uploads/2025/12/mens-discip-sat.jpg
ORGANIZER;CN="John Krueger":MAILTO:dockrueger@aol.com
END:VEVENT
BEGIN:VEVENT
DTSTART;TZID=America/New_York:20260616T190000
DTEND;TZID=America/New_York:20260616T210000
DTSTAMP:20260423T042619
CREATED:20251218T185617Z
LAST-MODIFIED:20251218T185625Z
UID:10007224-1781636400-1781643600@www.clearwatercommunity.org
SUMMARY:Community Bible Study
DESCRIPTION:Community Bible Study hosted at CCC as a Men’s study. \nTuesdays at 7:15pm-9:00pm\nThis group includes individual study\, small group discussion\, teaching and fellowship. Men from all backgrounds and levels of Bible knowledge are welcome. The group will be studying the Psalms. \nClick here for the CBS Clearwater Men’s Evening Website for more information on the community group coordinating this study.
URL:https://www.clearwatercommunity.org/event/community-bible-study-2-2-2-2-2/2026-06-16/
CATEGORIES:Men's Ministry
ATTACH;FMTTYPE=image/jpeg:https://www.clearwatercommunity.org/wp-content/uploads/2024/07/CBS-Men-2025.jpg
ORGANIZER;CN="Bob Gruber":MAILTO:gruberb75@gmail.com
END:VEVENT
BEGIN:VEVENT
DTSTART;TZID=America/New_York:20260618T070000
DTEND;TZID=America/New_York:20260618T080000
DTSTAMP:20260423T042619
CREATED:20251218T185737Z
LAST-MODIFIED:20260421T193306Z
UID:10000709-1781766000-1781769600@www.clearwatercommunity.org
SUMMARY:Men's Discipleship - Thurs
DESCRIPTION:This study a great place to get to know other men and grow in your faith\, no matter how long you have been a Christian.\n \nTHURSDAYS   //  7:00am    :: Contact: Phil\nMen’s Discipleship which meets on Thursdays in the Living Room and focuses on a book of the Bible. Currently reading through Joshua. \nTHURSDAYS   //  7:00am    :: Contact: Rick\nMen’s Discipleship which meets on Thursdays in Room 306 and focuses on a follow-up to the sermons. \n________________________________________________\nMen also meet on other days of the week: \nCLICK FOR SATURDAY MORNINGS  ::  Contact John\nFRIDAY MORNINGS AT IHOP  ::  Contact Chris
URL:https://www.clearwatercommunity.org/event/mens-discipleship-2-2/2026-06-18/
CATEGORIES:Men's Ministry
ATTACH;FMTTYPE=image/jpeg:https://www.clearwatercommunity.org/wp-content/uploads/2025/12/mens-discip-thur.jpg
ORGANIZER;CN="Phil Burggraff":MAILTO:pastorphil@clearwatercommunity.org
END:VEVENT
BEGIN:VEVENT
DTSTART;TZID=America/New_York:20260620T073000
DTEND;TZID=America/New_York:20260620T210000
DTSTAMP:20260423T042619
CREATED:20241108T151138Z
LAST-MODIFIED:20260421T192825Z
UID:10005050-1781940600-1781989200@www.clearwatercommunity.org
SUMMARY:Men's Discipleship - Sat
DESCRIPTION:This study is a great place to get to know other men and grow in your faith\, no matter how long you have been a Christian.\n \nSATURDAYS  //  7:30am  ::  Contact: John\nMen’s Discipleship\, which meets on Saturdays at 7:30am\, is currently studying 1st & 2nd Peter and Jude. \n________________________________________________\nMen also meet on other days of the week: \nTHURSDAY MORNINGS AT CCC :: Contact Phil\nFRIDAY MORNINGS AT IHOP  ::  Contact Chris
URL:https://www.clearwatercommunity.org/event/mens-discipleship-sat/2026-06-20/
LOCATION:Living Room\, 2897 Belcher Rd.\, Dunedin\, FL\, 34698\, United States
CATEGORIES:Men's Ministry
ATTACH;FMTTYPE=image/jpeg:https://www.clearwatercommunity.org/wp-content/uploads/2025/12/mens-discip-sat.jpg
ORGANIZER;CN="John Krueger":MAILTO:dockrueger@aol.com
END:VEVENT
BEGIN:VEVENT
DTSTART;TZID=America/New_York:20260623T190000
DTEND;TZID=America/New_York:20260623T210000
DTSTAMP:20260423T042619
CREATED:20251218T185617Z
LAST-MODIFIED:20251218T185625Z
UID:10007225-1782241200-1782248400@www.clearwatercommunity.org
SUMMARY:Community Bible Study
DESCRIPTION:Community Bible Study hosted at CCC as a Men’s study. \nTuesdays at 7:15pm-9:00pm\nThis group includes individual study\, small group discussion\, teaching and fellowship. Men from all backgrounds and levels of Bible knowledge are welcome. The group will be studying the Psalms. \nClick here for the CBS Clearwater Men’s Evening Website for more information on the community group coordinating this study.
URL:https://www.clearwatercommunity.org/event/community-bible-study-2-2-2-2-2/2026-06-23/
CATEGORIES:Men's Ministry
ATTACH;FMTTYPE=image/jpeg:https://www.clearwatercommunity.org/wp-content/uploads/2024/07/CBS-Men-2025.jpg
ORGANIZER;CN="Bob Gruber":MAILTO:gruberb75@gmail.com
END:VEVENT
BEGIN:VEVENT
DTSTART;TZID=America/New_York:20260625T070000
DTEND;TZID=America/New_York:20260625T080000
DTSTAMP:20260423T042619
CREATED:20251218T185737Z
LAST-MODIFIED:20260421T193306Z
UID:10000710-1782370800-1782374400@www.clearwatercommunity.org
SUMMARY:Men's Discipleship - Thurs
DESCRIPTION:This study a great place to get to know other men and grow in your faith\, no matter how long you have been a Christian.\n \nTHURSDAYS   //  7:00am    :: Contact: Phil\nMen’s Discipleship which meets on Thursdays in the Living Room and focuses on a book of the Bible. Currently reading through Joshua. \nTHURSDAYS   //  7:00am    :: Contact: Rick\nMen’s Discipleship which meets on Thursdays in Room 306 and focuses on a follow-up to the sermons. \n________________________________________________\nMen also meet on other days of the week: \nCLICK FOR SATURDAY MORNINGS  ::  Contact John\nFRIDAY MORNINGS AT IHOP  ::  Contact Chris
URL:https://www.clearwatercommunity.org/event/mens-discipleship-2-2/2026-06-25/
CATEGORIES:Men's Ministry
ATTACH;FMTTYPE=image/jpeg:https://www.clearwatercommunity.org/wp-content/uploads/2025/12/mens-discip-thur.jpg
ORGANIZER;CN="Phil Burggraff":MAILTO:pastorphil@clearwatercommunity.org
END:VEVENT
BEGIN:VEVENT
DTSTART;TZID=America/New_York:20260627T073000
DTEND;TZID=America/New_York:20260627T210000
DTSTAMP:20260423T042619
CREATED:20241108T151138Z
LAST-MODIFIED:20260421T192825Z
UID:10005051-1782545400-1782594000@www.clearwatercommunity.org
SUMMARY:Men's Discipleship - Sat
DESCRIPTION:This study is a great place to get to know other men and grow in your faith\, no matter how long you have been a Christian.\n \nSATURDAYS  //  7:30am  ::  Contact: John\nMen’s Discipleship\, which meets on Saturdays at 7:30am\, is currently studying 1st & 2nd Peter and Jude. \n________________________________________________\nMen also meet on other days of the week: \nTHURSDAY MORNINGS AT CCC :: Contact Phil\nFRIDAY MORNINGS AT IHOP  ::  Contact Chris
URL:https://www.clearwatercommunity.org/event/mens-discipleship-sat/2026-06-27/
LOCATION:Living Room\, 2897 Belcher Rd.\, Dunedin\, FL\, 34698\, United States
CATEGORIES:Men's Ministry
ATTACH;FMTTYPE=image/jpeg:https://www.clearwatercommunity.org/wp-content/uploads/2025/12/mens-discip-sat.jpg
ORGANIZER;CN="John Krueger":MAILTO:dockrueger@aol.com
END:VEVENT
BEGIN:VEVENT
DTSTART;TZID=America/New_York:20260630T190000
DTEND;TZID=America/New_York:20260630T210000
DTSTAMP:20260423T042619
CREATED:20251218T185617Z
LAST-MODIFIED:20251218T185625Z
UID:10007226-1782846000-1782853200@www.clearwatercommunity.org
SUMMARY:Community Bible Study
DESCRIPTION:Community Bible Study hosted at CCC as a Men’s study. \nTuesdays at 7:15pm-9:00pm\nThis group includes individual study\, small group discussion\, teaching and fellowship. Men from all backgrounds and levels of Bible knowledge are welcome. The group will be studying the Psalms. \nClick here for the CBS Clearwater Men’s Evening Website for more information on the community group coordinating this study.
URL:https://www.clearwatercommunity.org/event/community-bible-study-2-2-2-2-2/2026-06-30/
CATEGORIES:Men's Ministry
ATTACH;FMTTYPE=image/jpeg:https://www.clearwatercommunity.org/wp-content/uploads/2024/07/CBS-Men-2025.jpg
ORGANIZER;CN="Bob Gruber":MAILTO:gruberb75@gmail.com
END:VEVENT
END:VCALENDAR