BEGIN:VCALENDAR
VERSION:2.0
PRODID:-//Clearwater Community Church - ECPv6.15.20//NONSGML v1.0//EN
CALSCALE:GREGORIAN
METHOD:PUBLISH
X-WR-CALNAME:Clearwater Community Church
X-ORIGINAL-URL:https://www.clearwatercommunity.org
X-WR-CALDESC:Events for Clearwater Community Church
REFRESH-INTERVAL;VALUE=DURATION:PT1H
X-Robots-Tag:noindex
X-PUBLISHED-TTL:PT1H
BEGIN:VTIMEZONE
TZID:America/New_York
BEGIN:DAYLIGHT
TZOFFSETFROM:-0500
TZOFFSETTO:-0400
TZNAME:EDT
DTSTART:20250309T070000
END:DAYLIGHT
BEGIN:STANDARD
TZOFFSETFROM:-0400
TZOFFSETTO:-0500
TZNAME:EST
DTSTART:20251102T060000
END:STANDARD
BEGIN:DAYLIGHT
TZOFFSETFROM:-0500
TZOFFSETTO:-0400
TZNAME:EDT
DTSTART:20260308T070000
END:DAYLIGHT
BEGIN:STANDARD
TZOFFSETFROM:-0400
TZOFFSETTO:-0500
TZNAME:EST
DTSTART:20261101T060000
END:STANDARD
BEGIN:DAYLIGHT
TZOFFSETFROM:-0500
TZOFFSETTO:-0400
TZNAME:EDT
DTSTART:20270314T070000
END:DAYLIGHT
BEGIN:STANDARD
TZOFFSETFROM:-0400
TZOFFSETTO:-0500
TZNAME:EST
DTSTART:20271107T060000
END:STANDARD
END:VTIMEZONE
BEGIN:VEVENT
DTSTART;TZID=America/New_York:20260303T190000
DTEND;TZID=America/New_York:20260303T210000
DTSTAMP:20260423T020036
CREATED:20251218T185617Z
LAST-MODIFIED:20251218T185625Z
UID:10007209-1772564400-1772571600@www.clearwatercommunity.org
SUMMARY:Community Bible Study
DESCRIPTION:Community Bible Study hosted at CCC as a Men’s study. \nTuesdays at 7:15pm-9:00pm\nThis group includes individual study\, small group discussion\, teaching and fellowship. Men from all backgrounds and levels of Bible knowledge are welcome. The group will be studying the Psalms. \nClick here for the CBS Clearwater Men’s Evening Website for more information on the community group coordinating this study.
URL:https://www.clearwatercommunity.org/event/community-bible-study-2-2-2-2-2/2026-03-03/
CATEGORIES:Men's Ministry
ATTACH;FMTTYPE=image/jpeg:https://www.clearwatercommunity.org/wp-content/uploads/2024/07/CBS-Men-2025.jpg
ORGANIZER;CN="Bob Gruber":MAILTO:gruberb75@gmail.com
END:VEVENT
BEGIN:VEVENT
DTSTART;TZID=America/New_York:20260305T070000
DTEND;TZID=America/New_York:20260305T080000
DTSTAMP:20260423T020036
CREATED:20251218T185737Z
LAST-MODIFIED:20260421T193306Z
UID:10000694-1772694000-1772697600@www.clearwatercommunity.org
SUMMARY:Men's Discipleship - Thurs
DESCRIPTION:This study a great place to get to know other men and grow in your faith\, no matter how long you have been a Christian.\n \nTHURSDAYS   //  7:00am    :: Contact: Phil\nMen’s Discipleship which meets on Thursdays in the Living Room and focuses on a book of the Bible. Currently reading through Joshua. \nTHURSDAYS   //  7:00am    :: Contact: Rick\nMen’s Discipleship which meets on Thursdays in Room 306 and focuses on a follow-up to the sermons. \n________________________________________________\nMen also meet on other days of the week: \nCLICK FOR SATURDAY MORNINGS  ::  Contact John\nFRIDAY MORNINGS AT IHOP  ::  Contact Chris
URL:https://www.clearwatercommunity.org/event/mens-discipleship-2-2/2026-03-05/
CATEGORIES:Men's Ministry
ATTACH;FMTTYPE=image/jpeg:https://www.clearwatercommunity.org/wp-content/uploads/2025/12/mens-discip-thur.jpg
ORGANIZER;CN="Phil Burggraff":MAILTO:pastorphil@clearwatercommunity.org
END:VEVENT
BEGIN:VEVENT
DTSTART;TZID=America/New_York:20260306T061500
DTEND;TZID=America/New_York:20260306T073000
DTSTAMP:20260423T020036
CREATED:20250813T160844Z
LAST-MODIFIED:20260305T212300Z
UID:10008190-1772777700-1772782200@www.clearwatercommunity.org
SUMMARY:Men's Friday Study
DESCRIPTION:Men’s Discipleship – a study through 1st Corinthians \nStarting Jan. 16th at 6:15am in Room 301/302. \n$10 for the journal will be collected in class.\nREGISTER
URL:https://www.clearwatercommunity.org/event/menfri-2-2/2026-03-06/
LOCATION:304
CATEGORIES:Men's Ministry
ATTACH;FMTTYPE=image/jpeg:https://www.clearwatercommunity.org/wp-content/uploads/2025/08/men-FRIDAY-STUDY-Toby.jpg
END:VEVENT
BEGIN:VEVENT
DTSTART;TZID=America/New_York:20260307T073000
DTEND;TZID=America/New_York:20260307T210000
DTSTAMP:20260423T020036
CREATED:20241108T151138Z
LAST-MODIFIED:20260421T192825Z
UID:10005035-1772868600-1772917200@www.clearwatercommunity.org
SUMMARY:Men's Discipleship - Sat
DESCRIPTION:This study is a great place to get to know other men and grow in your faith\, no matter how long you have been a Christian.\n \nSATURDAYS  //  7:30am  ::  Contact: John\nMen’s Discipleship\, which meets on Saturdays at 7:30am\, is currently studying 1st & 2nd Peter and Jude. \n________________________________________________\nMen also meet on other days of the week: \nTHURSDAY MORNINGS AT CCC :: Contact Phil\nFRIDAY MORNINGS AT IHOP  ::  Contact Chris
URL:https://www.clearwatercommunity.org/event/mens-discipleship-sat/2026-03-07/
LOCATION:Living Room\, 2897 Belcher Rd.\, Dunedin\, FL\, 34698\, United States
CATEGORIES:Men's Ministry
ATTACH;FMTTYPE=image/jpeg:https://www.clearwatercommunity.org/wp-content/uploads/2025/12/mens-discip-sat.jpg
ORGANIZER;CN="John Krueger":MAILTO:dockrueger@aol.com
END:VEVENT
BEGIN:VEVENT
DTSTART;TZID=America/New_York:20260310T190000
DTEND;TZID=America/New_York:20260310T210000
DTSTAMP:20260423T020036
CREATED:20251218T185617Z
LAST-MODIFIED:20251218T185625Z
UID:10007210-1773169200-1773176400@www.clearwatercommunity.org
SUMMARY:Community Bible Study
DESCRIPTION:Community Bible Study hosted at CCC as a Men’s study. \nTuesdays at 7:15pm-9:00pm\nThis group includes individual study\, small group discussion\, teaching and fellowship. Men from all backgrounds and levels of Bible knowledge are welcome. The group will be studying the Psalms. \nClick here for the CBS Clearwater Men’s Evening Website for more information on the community group coordinating this study.
URL:https://www.clearwatercommunity.org/event/community-bible-study-2-2-2-2-2/2026-03-10/
CATEGORIES:Men's Ministry
ATTACH;FMTTYPE=image/jpeg:https://www.clearwatercommunity.org/wp-content/uploads/2024/07/CBS-Men-2025.jpg
ORGANIZER;CN="Bob Gruber":MAILTO:gruberb75@gmail.com
END:VEVENT
BEGIN:VEVENT
DTSTART;TZID=America/New_York:20260312T070000
DTEND;TZID=America/New_York:20260312T080000
DTSTAMP:20260423T020036
CREATED:20251218T185737Z
LAST-MODIFIED:20260421T193306Z
UID:10000695-1773298800-1773302400@www.clearwatercommunity.org
SUMMARY:Men's Discipleship - Thurs
DESCRIPTION:This study a great place to get to know other men and grow in your faith\, no matter how long you have been a Christian.\n \nTHURSDAYS   //  7:00am    :: Contact: Phil\nMen’s Discipleship which meets on Thursdays in the Living Room and focuses on a book of the Bible. Currently reading through Joshua. \nTHURSDAYS   //  7:00am    :: Contact: Rick\nMen’s Discipleship which meets on Thursdays in Room 306 and focuses on a follow-up to the sermons. \n________________________________________________\nMen also meet on other days of the week: \nCLICK FOR SATURDAY MORNINGS  ::  Contact John\nFRIDAY MORNINGS AT IHOP  ::  Contact Chris
URL:https://www.clearwatercommunity.org/event/mens-discipleship-2-2/2026-03-12/
CATEGORIES:Men's Ministry
ATTACH;FMTTYPE=image/jpeg:https://www.clearwatercommunity.org/wp-content/uploads/2025/12/mens-discip-thur.jpg
ORGANIZER;CN="Phil Burggraff":MAILTO:pastorphil@clearwatercommunity.org
END:VEVENT
BEGIN:VEVENT
DTSTART;TZID=America/New_York:20260313T061500
DTEND;TZID=America/New_York:20260313T073000
DTSTAMP:20260423T020036
CREATED:20250813T160844Z
LAST-MODIFIED:20260305T212300Z
UID:10008191-1773382500-1773387000@www.clearwatercommunity.org
SUMMARY:Men's Friday Study
DESCRIPTION:Men’s Discipleship – a study through 1st Corinthians \nStarting Jan. 16th at 6:15am in Room 301/302. \n$10 for the journal will be collected in class.\nREGISTER
URL:https://www.clearwatercommunity.org/event/menfri-2-2/2026-03-13/
LOCATION:304
CATEGORIES:Men's Ministry
ATTACH;FMTTYPE=image/jpeg:https://www.clearwatercommunity.org/wp-content/uploads/2025/08/men-FRIDAY-STUDY-Toby.jpg
END:VEVENT
BEGIN:VEVENT
DTSTART;TZID=America/New_York:20260314T073000
DTEND;TZID=America/New_York:20260314T210000
DTSTAMP:20260423T020036
CREATED:20241108T151138Z
LAST-MODIFIED:20260421T192825Z
UID:10005036-1773473400-1773522000@www.clearwatercommunity.org
SUMMARY:Men's Discipleship - Sat
DESCRIPTION:This study is a great place to get to know other men and grow in your faith\, no matter how long you have been a Christian.\n \nSATURDAYS  //  7:30am  ::  Contact: John\nMen’s Discipleship\, which meets on Saturdays at 7:30am\, is currently studying 1st & 2nd Peter and Jude. \n________________________________________________\nMen also meet on other days of the week: \nTHURSDAY MORNINGS AT CCC :: Contact Phil\nFRIDAY MORNINGS AT IHOP  ::  Contact Chris
URL:https://www.clearwatercommunity.org/event/mens-discipleship-sat/2026-03-14/
LOCATION:Living Room\, 2897 Belcher Rd.\, Dunedin\, FL\, 34698\, United States
CATEGORIES:Men's Ministry
ATTACH;FMTTYPE=image/jpeg:https://www.clearwatercommunity.org/wp-content/uploads/2025/12/mens-discip-sat.jpg
ORGANIZER;CN="John Krueger":MAILTO:dockrueger@aol.com
END:VEVENT
BEGIN:VEVENT
DTSTART;TZID=America/New_York:20260317T190000
DTEND;TZID=America/New_York:20260317T210000
DTSTAMP:20260423T020036
CREATED:20251218T185617Z
LAST-MODIFIED:20251218T185625Z
UID:10007211-1773774000-1773781200@www.clearwatercommunity.org
SUMMARY:Community Bible Study
DESCRIPTION:Community Bible Study hosted at CCC as a Men’s study. \nTuesdays at 7:15pm-9:00pm\nThis group includes individual study\, small group discussion\, teaching and fellowship. Men from all backgrounds and levels of Bible knowledge are welcome. The group will be studying the Psalms. \nClick here for the CBS Clearwater Men’s Evening Website for more information on the community group coordinating this study.
URL:https://www.clearwatercommunity.org/event/community-bible-study-2-2-2-2-2/2026-03-17/
CATEGORIES:Men's Ministry
ATTACH;FMTTYPE=image/jpeg:https://www.clearwatercommunity.org/wp-content/uploads/2024/07/CBS-Men-2025.jpg
ORGANIZER;CN="Bob Gruber":MAILTO:gruberb75@gmail.com
END:VEVENT
BEGIN:VEVENT
DTSTART;TZID=America/New_York:20260319T070000
DTEND;TZID=America/New_York:20260319T080000
DTSTAMP:20260423T020036
CREATED:20251218T185737Z
LAST-MODIFIED:20260421T193306Z
UID:10000696-1773903600-1773907200@www.clearwatercommunity.org
SUMMARY:Men's Discipleship - Thurs
DESCRIPTION:This study a great place to get to know other men and grow in your faith\, no matter how long you have been a Christian.\n \nTHURSDAYS   //  7:00am    :: Contact: Phil\nMen’s Discipleship which meets on Thursdays in the Living Room and focuses on a book of the Bible. Currently reading through Joshua. \nTHURSDAYS   //  7:00am    :: Contact: Rick\nMen’s Discipleship which meets on Thursdays in Room 306 and focuses on a follow-up to the sermons. \n________________________________________________\nMen also meet on other days of the week: \nCLICK FOR SATURDAY MORNINGS  ::  Contact John\nFRIDAY MORNINGS AT IHOP  ::  Contact Chris
URL:https://www.clearwatercommunity.org/event/mens-discipleship-2-2/2026-03-19/
CATEGORIES:Men's Ministry
ATTACH;FMTTYPE=image/jpeg:https://www.clearwatercommunity.org/wp-content/uploads/2025/12/mens-discip-thur.jpg
ORGANIZER;CN="Phil Burggraff":MAILTO:pastorphil@clearwatercommunity.org
END:VEVENT
BEGIN:VEVENT
DTSTART;TZID=America/New_York:20260320T061500
DTEND;TZID=America/New_York:20260320T073000
DTSTAMP:20260423T020036
CREATED:20250813T160844Z
LAST-MODIFIED:20260305T212300Z
UID:10008192-1773987300-1773991800@www.clearwatercommunity.org
SUMMARY:Men's Friday Study
DESCRIPTION:Men’s Discipleship – a study through 1st Corinthians \nStarting Jan. 16th at 6:15am in Room 301/302. \n$10 for the journal will be collected in class.\nREGISTER
URL:https://www.clearwatercommunity.org/event/menfri-2-2/2026-03-20/
LOCATION:304
CATEGORIES:Men's Ministry
ATTACH;FMTTYPE=image/jpeg:https://www.clearwatercommunity.org/wp-content/uploads/2025/08/men-FRIDAY-STUDY-Toby.jpg
END:VEVENT
BEGIN:VEVENT
DTSTART;TZID=America/New_York:20260321T073000
DTEND;TZID=America/New_York:20260321T210000
DTSTAMP:20260423T020036
CREATED:20241108T151138Z
LAST-MODIFIED:20260421T192825Z
UID:10005037-1774078200-1774126800@www.clearwatercommunity.org
SUMMARY:Men's Discipleship - Sat
DESCRIPTION:This study is a great place to get to know other men and grow in your faith\, no matter how long you have been a Christian.\n \nSATURDAYS  //  7:30am  ::  Contact: John\nMen’s Discipleship\, which meets on Saturdays at 7:30am\, is currently studying 1st & 2nd Peter and Jude. \n________________________________________________\nMen also meet on other days of the week: \nTHURSDAY MORNINGS AT CCC :: Contact Phil\nFRIDAY MORNINGS AT IHOP  ::  Contact Chris
URL:https://www.clearwatercommunity.org/event/mens-discipleship-sat/2026-03-21/
LOCATION:Living Room\, 2897 Belcher Rd.\, Dunedin\, FL\, 34698\, United States
CATEGORIES:Men's Ministry
ATTACH;FMTTYPE=image/jpeg:https://www.clearwatercommunity.org/wp-content/uploads/2025/12/mens-discip-sat.jpg
ORGANIZER;CN="John Krueger":MAILTO:dockrueger@aol.com
END:VEVENT
BEGIN:VEVENT
DTSTART;TZID=America/New_York:20260324T190000
DTEND;TZID=America/New_York:20260324T210000
DTSTAMP:20260423T020036
CREATED:20251218T185617Z
LAST-MODIFIED:20251218T185625Z
UID:10007212-1774378800-1774386000@www.clearwatercommunity.org
SUMMARY:Community Bible Study
DESCRIPTION:Community Bible Study hosted at CCC as a Men’s study. \nTuesdays at 7:15pm-9:00pm\nThis group includes individual study\, small group discussion\, teaching and fellowship. Men from all backgrounds and levels of Bible knowledge are welcome. The group will be studying the Psalms. \nClick here for the CBS Clearwater Men’s Evening Website for more information on the community group coordinating this study.
URL:https://www.clearwatercommunity.org/event/community-bible-study-2-2-2-2-2/2026-03-24/
CATEGORIES:Men's Ministry
ATTACH;FMTTYPE=image/jpeg:https://www.clearwatercommunity.org/wp-content/uploads/2024/07/CBS-Men-2025.jpg
ORGANIZER;CN="Bob Gruber":MAILTO:gruberb75@gmail.com
END:VEVENT
BEGIN:VEVENT
DTSTART;TZID=America/New_York:20260326T070000
DTEND;TZID=America/New_York:20260326T080000
DTSTAMP:20260423T020036
CREATED:20251218T185737Z
LAST-MODIFIED:20260421T193306Z
UID:10000697-1774508400-1774512000@www.clearwatercommunity.org
SUMMARY:Men's Discipleship - Thurs
DESCRIPTION:This study a great place to get to know other men and grow in your faith\, no matter how long you have been a Christian.\n \nTHURSDAYS   //  7:00am    :: Contact: Phil\nMen’s Discipleship which meets on Thursdays in the Living Room and focuses on a book of the Bible. Currently reading through Joshua. \nTHURSDAYS   //  7:00am    :: Contact: Rick\nMen’s Discipleship which meets on Thursdays in Room 306 and focuses on a follow-up to the sermons. \n________________________________________________\nMen also meet on other days of the week: \nCLICK FOR SATURDAY MORNINGS  ::  Contact John\nFRIDAY MORNINGS AT IHOP  ::  Contact Chris
URL:https://www.clearwatercommunity.org/event/mens-discipleship-2-2/2026-03-26/
CATEGORIES:Men's Ministry
ATTACH;FMTTYPE=image/jpeg:https://www.clearwatercommunity.org/wp-content/uploads/2025/12/mens-discip-thur.jpg
ORGANIZER;CN="Phil Burggraff":MAILTO:pastorphil@clearwatercommunity.org
END:VEVENT
BEGIN:VEVENT
DTSTART;TZID=America/New_York:20260327T061500
DTEND;TZID=America/New_York:20260327T073000
DTSTAMP:20260423T020036
CREATED:20250813T160844Z
LAST-MODIFIED:20260305T212300Z
UID:10008193-1774592100-1774596600@www.clearwatercommunity.org
SUMMARY:Men's Friday Study
DESCRIPTION:Men’s Discipleship – a study through 1st Corinthians \nStarting Jan. 16th at 6:15am in Room 301/302. \n$10 for the journal will be collected in class.\nREGISTER
URL:https://www.clearwatercommunity.org/event/menfri-2-2/2026-03-27/
LOCATION:304
CATEGORIES:Men's Ministry
ATTACH;FMTTYPE=image/jpeg:https://www.clearwatercommunity.org/wp-content/uploads/2025/08/men-FRIDAY-STUDY-Toby.jpg
END:VEVENT
BEGIN:VEVENT
DTSTART;TZID=America/New_York:20260328T073000
DTEND;TZID=America/New_York:20260328T210000
DTSTAMP:20260423T020036
CREATED:20241108T151138Z
LAST-MODIFIED:20260421T192825Z
UID:10005038-1774683000-1774731600@www.clearwatercommunity.org
SUMMARY:Men's Discipleship - Sat
DESCRIPTION:This study is a great place to get to know other men and grow in your faith\, no matter how long you have been a Christian.\n \nSATURDAYS  //  7:30am  ::  Contact: John\nMen’s Discipleship\, which meets on Saturdays at 7:30am\, is currently studying 1st & 2nd Peter and Jude. \n________________________________________________\nMen also meet on other days of the week: \nTHURSDAY MORNINGS AT CCC :: Contact Phil\nFRIDAY MORNINGS AT IHOP  ::  Contact Chris
URL:https://www.clearwatercommunity.org/event/mens-discipleship-sat/2026-03-28/
LOCATION:Living Room\, 2897 Belcher Rd.\, Dunedin\, FL\, 34698\, United States
CATEGORIES:Men's Ministry
ATTACH;FMTTYPE=image/jpeg:https://www.clearwatercommunity.org/wp-content/uploads/2025/12/mens-discip-sat.jpg
ORGANIZER;CN="John Krueger":MAILTO:dockrueger@aol.com
END:VEVENT
BEGIN:VEVENT
DTSTART;TZID=America/New_York:20260331T190000
DTEND;TZID=America/New_York:20260331T210000
DTSTAMP:20260423T020036
CREATED:20251218T185617Z
LAST-MODIFIED:20251218T185625Z
UID:10007213-1774983600-1774990800@www.clearwatercommunity.org
SUMMARY:Community Bible Study
DESCRIPTION:Community Bible Study hosted at CCC as a Men’s study. \nTuesdays at 7:15pm-9:00pm\nThis group includes individual study\, small group discussion\, teaching and fellowship. Men from all backgrounds and levels of Bible knowledge are welcome. The group will be studying the Psalms. \nClick here for the CBS Clearwater Men’s Evening Website for more information on the community group coordinating this study.
URL:https://www.clearwatercommunity.org/event/community-bible-study-2-2-2-2-2/2026-03-31/
CATEGORIES:Men's Ministry
ATTACH;FMTTYPE=image/jpeg:https://www.clearwatercommunity.org/wp-content/uploads/2024/07/CBS-Men-2025.jpg
ORGANIZER;CN="Bob Gruber":MAILTO:gruberb75@gmail.com
END:VEVENT
END:VCALENDAR