BEGIN:VCALENDAR
VERSION:2.0
PRODID:-//Clearwater Community Church - ECPv6.15.20//NONSGML v1.0//EN
CALSCALE:GREGORIAN
METHOD:PUBLISH
X-WR-CALNAME:Clearwater Community Church
X-ORIGINAL-URL:https://www.clearwatercommunity.org
X-WR-CALDESC:Events for Clearwater Community Church
REFRESH-INTERVAL;VALUE=DURATION:PT1H
X-Robots-Tag:noindex
X-PUBLISHED-TTL:PT1H
BEGIN:VTIMEZONE
TZID:America/New_York
BEGIN:DAYLIGHT
TZOFFSETFROM:-0500
TZOFFSETTO:-0400
TZNAME:EDT
DTSTART:20240310T070000
END:DAYLIGHT
BEGIN:STANDARD
TZOFFSETFROM:-0400
TZOFFSETTO:-0500
TZNAME:EST
DTSTART:20241103T060000
END:STANDARD
BEGIN:DAYLIGHT
TZOFFSETFROM:-0500
TZOFFSETTO:-0400
TZNAME:EDT
DTSTART:20250309T070000
END:DAYLIGHT
BEGIN:STANDARD
TZOFFSETFROM:-0400
TZOFFSETTO:-0500
TZNAME:EST
DTSTART:20251102T060000
END:STANDARD
BEGIN:DAYLIGHT
TZOFFSETFROM:-0500
TZOFFSETTO:-0400
TZNAME:EDT
DTSTART:20260308T070000
END:DAYLIGHT
BEGIN:STANDARD
TZOFFSETFROM:-0400
TZOFFSETTO:-0500
TZNAME:EST
DTSTART:20261101T060000
END:STANDARD
END:VTIMEZONE
BEGIN:VEVENT
DTSTART;TZID=America/New_York:20250401T190000
DTEND;TZID=America/New_York:20250401T210000
DTSTAMP:20260425T130430
CREATED:20240726T135741Z
LAST-MODIFIED:20250429T140123Z
UID:10003432-1743534000-1743541200@www.clearwatercommunity.org
SUMMARY:Community Bible Study
DESCRIPTION:Community Bible Study hosted at CCC as a Men’s study. \nTuesdays at 7:00pm\nThis group includes individual study\, small group discussion\, teaching and fellowship. Men from all backgrounds and levels of Bible knowledge are welcome. The group will be studying Matthew. \nClick here for the CBS Clearwater Men’s Evening Website for more information on the community group coordinating this study.
URL:https://www.clearwatercommunity.org/event/community-bible-study-2-2-2/2025-04-01/
CATEGORIES:Men's Ministry
ATTACH;FMTTYPE=image/jpeg:https://www.clearwatercommunity.org/wp-content/uploads/2024/07/CBS-Men-2025.jpg
ORGANIZER;CN="Bob Gruber":MAILTO:gruberb75@gmail.com
END:VEVENT
BEGIN:VEVENT
DTSTART;TZID=America/New_York:20250403T070000
DTEND;TZID=America/New_York:20250403T080000
DTSTAMP:20260425T130430
CREATED:20231130T205449Z
LAST-MODIFIED:20241108T151433Z
UID:10000646-1743663600-1743667200@www.clearwatercommunity.org
SUMMARY:Men's Discipleship - Thurs
DESCRIPTION:This study a great place to get to know other men and grow in your faith\, no matter how long you have been a Christian.\n \nTHURSDAYS   //  7:00am    :: Contact: Phil\nMen’s Discipleship which meets on Thursdays and focuses on a follow-up to the sermons as well as reading through the Bible in one year.
URL:https://www.clearwatercommunity.org/event/mens-discipleship-2/2025-04-03/
CATEGORIES:Men's Ministry
ORGANIZER;CN="Phil Burggraff":MAILTO:pastorphil@clearwatercommunity.org
END:VEVENT
BEGIN:VEVENT
DTSTART;TZID=America/New_York:20250405T073000
DTEND;TZID=America/New_York:20250405T210000
DTSTAMP:20260425T130430
CREATED:20241108T151138Z
LAST-MODIFIED:20260421T192825Z
UID:10004987-1743838200-1743886800@www.clearwatercommunity.org
SUMMARY:Men's Discipleship - Sat
DESCRIPTION:This study is a great place to get to know other men and grow in your faith\, no matter how long you have been a Christian.\n \nSATURDAYS  //  7:30am  ::  Contact: John\nMen’s Discipleship\, which meets on Saturdays at 7:30am\, is currently studying 1st & 2nd Peter and Jude. \n________________________________________________\nMen also meet on other days of the week: \nTHURSDAY MORNINGS AT CCC :: Contact Phil\nFRIDAY MORNINGS AT IHOP  ::  Contact Chris
URL:https://www.clearwatercommunity.org/event/mens-discipleship-sat/2025-04-05/
LOCATION:Living Room\, 2897 Belcher Rd.\, Dunedin\, FL\, 34698\, United States
CATEGORIES:Men's Ministry
ATTACH;FMTTYPE=image/jpeg:https://www.clearwatercommunity.org/wp-content/uploads/2025/12/mens-discip-sat.jpg
ORGANIZER;CN="John Krueger":MAILTO:dockrueger@aol.com
END:VEVENT
BEGIN:VEVENT
DTSTART;TZID=America/New_York:20250408T190000
DTEND;TZID=America/New_York:20250408T210000
DTSTAMP:20260425T130430
CREATED:20240726T135741Z
LAST-MODIFIED:20250429T140123Z
UID:10003433-1744138800-1744146000@www.clearwatercommunity.org
SUMMARY:Community Bible Study
DESCRIPTION:Community Bible Study hosted at CCC as a Men’s study. \nTuesdays at 7:00pm\nThis group includes individual study\, small group discussion\, teaching and fellowship. Men from all backgrounds and levels of Bible knowledge are welcome. The group will be studying Matthew. \nClick here for the CBS Clearwater Men’s Evening Website for more information on the community group coordinating this study.
URL:https://www.clearwatercommunity.org/event/community-bible-study-2-2-2/2025-04-08/
CATEGORIES:Men's Ministry
ATTACH;FMTTYPE=image/jpeg:https://www.clearwatercommunity.org/wp-content/uploads/2024/07/CBS-Men-2025.jpg
ORGANIZER;CN="Bob Gruber":MAILTO:gruberb75@gmail.com
END:VEVENT
BEGIN:VEVENT
DTSTART;TZID=America/New_York:20250410T070000
DTEND;TZID=America/New_York:20250410T080000
DTSTAMP:20260425T130430
CREATED:20231130T205449Z
LAST-MODIFIED:20241108T151433Z
UID:10000647-1744268400-1744272000@www.clearwatercommunity.org
SUMMARY:Men's Discipleship - Thurs
DESCRIPTION:This study a great place to get to know other men and grow in your faith\, no matter how long you have been a Christian.\n \nTHURSDAYS   //  7:00am    :: Contact: Phil\nMen’s Discipleship which meets on Thursdays and focuses on a follow-up to the sermons as well as reading through the Bible in one year.
URL:https://www.clearwatercommunity.org/event/mens-discipleship-2/2025-04-10/
CATEGORIES:Men's Ministry
ORGANIZER;CN="Phil Burggraff":MAILTO:pastorphil@clearwatercommunity.org
END:VEVENT
BEGIN:VEVENT
DTSTART;TZID=America/New_York:20250412T073000
DTEND;TZID=America/New_York:20250412T210000
DTSTAMP:20260425T130430
CREATED:20241108T151138Z
LAST-MODIFIED:20260421T192825Z
UID:10004988-1744443000-1744491600@www.clearwatercommunity.org
SUMMARY:Men's Discipleship - Sat
DESCRIPTION:This study is a great place to get to know other men and grow in your faith\, no matter how long you have been a Christian.\n \nSATURDAYS  //  7:30am  ::  Contact: John\nMen’s Discipleship\, which meets on Saturdays at 7:30am\, is currently studying 1st & 2nd Peter and Jude. \n________________________________________________\nMen also meet on other days of the week: \nTHURSDAY MORNINGS AT CCC :: Contact Phil\nFRIDAY MORNINGS AT IHOP  ::  Contact Chris
URL:https://www.clearwatercommunity.org/event/mens-discipleship-sat/2025-04-12/
LOCATION:Living Room\, 2897 Belcher Rd.\, Dunedin\, FL\, 34698\, United States
CATEGORIES:Men's Ministry
ATTACH;FMTTYPE=image/jpeg:https://www.clearwatercommunity.org/wp-content/uploads/2025/12/mens-discip-sat.jpg
ORGANIZER;CN="John Krueger":MAILTO:dockrueger@aol.com
END:VEVENT
BEGIN:VEVENT
DTSTART;TZID=America/New_York:20250415T190000
DTEND;TZID=America/New_York:20250415T210000
DTSTAMP:20260425T130430
CREATED:20240726T135741Z
LAST-MODIFIED:20250429T140123Z
UID:10003434-1744743600-1744750800@www.clearwatercommunity.org
SUMMARY:Community Bible Study
DESCRIPTION:Community Bible Study hosted at CCC as a Men’s study. \nTuesdays at 7:00pm\nThis group includes individual study\, small group discussion\, teaching and fellowship. Men from all backgrounds and levels of Bible knowledge are welcome. The group will be studying Matthew. \nClick here for the CBS Clearwater Men’s Evening Website for more information on the community group coordinating this study.
URL:https://www.clearwatercommunity.org/event/community-bible-study-2-2-2/2025-04-15/
CATEGORIES:Men's Ministry
ATTACH;FMTTYPE=image/jpeg:https://www.clearwatercommunity.org/wp-content/uploads/2024/07/CBS-Men-2025.jpg
ORGANIZER;CN="Bob Gruber":MAILTO:gruberb75@gmail.com
END:VEVENT
BEGIN:VEVENT
DTSTART;TZID=America/New_York:20250417T070000
DTEND;TZID=America/New_York:20250417T080000
DTSTAMP:20260425T130430
CREATED:20231130T205449Z
LAST-MODIFIED:20241108T151433Z
UID:10000648-1744873200-1744876800@www.clearwatercommunity.org
SUMMARY:Men's Discipleship - Thurs
DESCRIPTION:This study a great place to get to know other men and grow in your faith\, no matter how long you have been a Christian.\n \nTHURSDAYS   //  7:00am    :: Contact: Phil\nMen’s Discipleship which meets on Thursdays and focuses on a follow-up to the sermons as well as reading through the Bible in one year.
URL:https://www.clearwatercommunity.org/event/mens-discipleship-2/2025-04-17/
CATEGORIES:Men's Ministry
ORGANIZER;CN="Phil Burggraff":MAILTO:pastorphil@clearwatercommunity.org
END:VEVENT
BEGIN:VEVENT
DTSTART;TZID=America/New_York:20250419T073000
DTEND;TZID=America/New_York:20250419T210000
DTSTAMP:20260425T130430
CREATED:20241108T151138Z
LAST-MODIFIED:20260421T192825Z
UID:10004989-1745047800-1745096400@www.clearwatercommunity.org
SUMMARY:Men's Discipleship - Sat
DESCRIPTION:This study is a great place to get to know other men and grow in your faith\, no matter how long you have been a Christian.\n \nSATURDAYS  //  7:30am  ::  Contact: John\nMen’s Discipleship\, which meets on Saturdays at 7:30am\, is currently studying 1st & 2nd Peter and Jude. \n________________________________________________\nMen also meet on other days of the week: \nTHURSDAY MORNINGS AT CCC :: Contact Phil\nFRIDAY MORNINGS AT IHOP  ::  Contact Chris
URL:https://www.clearwatercommunity.org/event/mens-discipleship-sat/2025-04-19/
LOCATION:Living Room\, 2897 Belcher Rd.\, Dunedin\, FL\, 34698\, United States
CATEGORIES:Men's Ministry
ATTACH;FMTTYPE=image/jpeg:https://www.clearwatercommunity.org/wp-content/uploads/2025/12/mens-discip-sat.jpg
ORGANIZER;CN="John Krueger":MAILTO:dockrueger@aol.com
END:VEVENT
BEGIN:VEVENT
DTSTART;TZID=America/New_York:20250422T190000
DTEND;TZID=America/New_York:20250422T210000
DTSTAMP:20260425T130430
CREATED:20240726T135741Z
LAST-MODIFIED:20250429T140123Z
UID:10003435-1745348400-1745355600@www.clearwatercommunity.org
SUMMARY:Community Bible Study
DESCRIPTION:Community Bible Study hosted at CCC as a Men’s study. \nTuesdays at 7:00pm\nThis group includes individual study\, small group discussion\, teaching and fellowship. Men from all backgrounds and levels of Bible knowledge are welcome. The group will be studying Matthew. \nClick here for the CBS Clearwater Men’s Evening Website for more information on the community group coordinating this study.
URL:https://www.clearwatercommunity.org/event/community-bible-study-2-2-2/2025-04-22/
CATEGORIES:Men's Ministry
ATTACH;FMTTYPE=image/jpeg:https://www.clearwatercommunity.org/wp-content/uploads/2024/07/CBS-Men-2025.jpg
ORGANIZER;CN="Bob Gruber":MAILTO:gruberb75@gmail.com
END:VEVENT
BEGIN:VEVENT
DTSTART;TZID=America/New_York:20250424T070000
DTEND;TZID=America/New_York:20250424T080000
DTSTAMP:20260425T130430
CREATED:20231130T205449Z
LAST-MODIFIED:20241108T151433Z
UID:10000649-1745478000-1745481600@www.clearwatercommunity.org
SUMMARY:Men's Discipleship - Thurs
DESCRIPTION:This study a great place to get to know other men and grow in your faith\, no matter how long you have been a Christian.\n \nTHURSDAYS   //  7:00am    :: Contact: Phil\nMen’s Discipleship which meets on Thursdays and focuses on a follow-up to the sermons as well as reading through the Bible in one year.
URL:https://www.clearwatercommunity.org/event/mens-discipleship-2/2025-04-24/
CATEGORIES:Men's Ministry
ORGANIZER;CN="Phil Burggraff":MAILTO:pastorphil@clearwatercommunity.org
END:VEVENT
BEGIN:VEVENT
DTSTART;TZID=America/New_York:20250426T073000
DTEND;TZID=America/New_York:20250426T210000
DTSTAMP:20260425T130430
CREATED:20241108T151138Z
LAST-MODIFIED:20260421T192825Z
UID:10004990-1745652600-1745701200@www.clearwatercommunity.org
SUMMARY:Men's Discipleship - Sat
DESCRIPTION:This study is a great place to get to know other men and grow in your faith\, no matter how long you have been a Christian.\n \nSATURDAYS  //  7:30am  ::  Contact: John\nMen’s Discipleship\, which meets on Saturdays at 7:30am\, is currently studying 1st & 2nd Peter and Jude. \n________________________________________________\nMen also meet on other days of the week: \nTHURSDAY MORNINGS AT CCC :: Contact Phil\nFRIDAY MORNINGS AT IHOP  ::  Contact Chris
URL:https://www.clearwatercommunity.org/event/mens-discipleship-sat/2025-04-26/
LOCATION:Living Room\, 2897 Belcher Rd.\, Dunedin\, FL\, 34698\, United States
CATEGORIES:Men's Ministry
ATTACH;FMTTYPE=image/jpeg:https://www.clearwatercommunity.org/wp-content/uploads/2025/12/mens-discip-sat.jpg
ORGANIZER;CN="John Krueger":MAILTO:dockrueger@aol.com
END:VEVENT
END:VCALENDAR